BEGIN:VCALENDAR
VERSION:2.0
PRODID:Spatie calendar-links
BEGIN:VEVENT
UID:5b08dfa85d55f9bfd3cbdcd13611d839
SUMMARY:An evening with Dr. Patrick Moore
DTSTAMP;TZID=America/North_Dakota/Center:20210914T183000
DTSTART;TZID=America/North_Dakota/Center:20210914T183000
DTEND;TZID=America/North_Dakota/Center:20210914T203000
LOCATION:200  Lakeshore Drive\, Regina\, SK\, Canada
END:VEVENT
END:VCALENDAR