BEGIN:VCALENDAR
VERSION:2.0
PRODID:Spatie calendar-links
BEGIN:VEVENT
UID:2b0c53b86043aabe4feb62e17b4cabfa
SUMMARY:SUNDAY FREEDOM RALLY - Tribute to Hila Russ-Woodland 
DTSTAMP;TZID=America/Los_Angeles:20210815T130000
DTSTART;TZID=America/Los_Angeles:20210815T130000
DTEND;TZID=America/Los_Angeles:20210815T160000
LOCATION:1204 Beach Avenue \, Vancouver\, British Columbia\, Canada
END:VEVENT
END:VCALENDAR