BEGIN:VCALENDAR
VERSION:2.0
PRODID:Spatie calendar-links
BEGIN:VEVENT
UID:05a6960d53bd22b291e2461924c4607f
SUMMARY:Say No to Forced Vaccines Sept 6 Nanaimo
DTSTAMP;TZID=America/Vancouver:20210906T100000
DTSTART;TZID=America/Vancouver:20210906T100000
DTEND;TZID=America/Vancouver:20210906T130000
LOCATION:Nanaimo\, BC\, Canada
END:VEVENT
END:VCALENDAR