BEGIN:VCALENDAR
VERSION:2.0
PRODID:Spatie calendar-links
BEGIN:VEVENT
UID:871349bfdd9baae0efe89a3f843d43b1
SUMMARY:Smithers Freedom Rally
DTSTAMP;TZID=America/Vancouver:20210410T110000
DTSTART;TZID=America/Vancouver:20210410T110000
DTEND;TZID=America/Vancouver:20210410T130000
LOCATION:Smithers\, BC\, Canada
END:VEVENT
END:VCALENDAR