BEGIN:VCALENDAR
VERSION:2.0
PRODID:Spatie calendar-links
BEGIN:VEVENT
UID:bd103d8d6acf7a184663fccb0056338e
SUMMARY:Wellness Cafe outreach for community mental health
DTSTAMP;TZID=America/Los_Angeles:20210820T180000
DTSTART;TZID=America/Los_Angeles:20210820T180000
DTEND;TZID=America/Los_Angeles:20210820T210000
LOCATION:748 East Hastings\, Vancouver\, BC\, Canada
END:VEVENT
END:VCALENDAR