BEGIN:VCALENDAR
VERSION:2.0
PRODID:Spatie calendar-links
BEGIN:VEVENT
UID:534e669bf668925278c4336edf9b6b28
SUMMARY:World Wide Rally Sept 18th & 19th Victoria
DTSTAMP;TZID=America/Vancouver:20210918T120000
DTSTART;TZID=America/Vancouver:20210918T120000
DTEND;TZID=America/Vancouver:20210919T150000
LOCATION:Victoria\, BC\, Canada
END:VEVENT
END:VCALENDAR