BEGIN:VCALENDAR
VERSION:2.0
PRODID:Spatie calendar-links
BEGIN:VEVENT
UID:e1ff209b347549e35bc38b702bb3f042
SUMMARY:World Wide Rally Sept 18th Toronto
DTSTAMP;TZID=America/Toronto:20210918T120000
DTSTART;TZID=America/Toronto:20210918T120000
DTEND;TZID=America/Toronto:20210918T150000
LOCATION:Toronto\, Ontario\, Canada
END:VEVENT
END:VCALENDAR