BEGIN:VCALENDAR
VERSION:2.0
PRODID:Spatie calendar-links
BEGIN:VEVENT
UID:bf8a7e9e46b8b963edb41090c67c8fae
SUMMARY:World Wide Rally Sept 18th St. John's
DTSTAMP;TZID=America/St_Johns:20210918T130000
DTSTART;TZID=America/St_Johns:20210918T130000
DTEND;TZID=America/St_Johns:20210918T150000
LOCATION:St. John's\, Newfoundland and Labrador\, Canada
END:VEVENT
END:VCALENDAR