BEGIN:VCALENDAR
VERSION:2.0
PRODID:Spatie calendar-links
BEGIN:VEVENT
UID:aea2d76fbc38134bf6578845bdda0c88
SUMMARY:World Wide Rally Sept 18th Calgary
DTSTAMP;TZID=America/Edmonton:20210918T130000
DTSTART;TZID=America/Edmonton:20210918T130000
DTEND;TZID=America/Edmonton:20210918T160000
LOCATION:Calgary\, Alberta \, Canada
END:VEVENT
END:VCALENDAR