BEGIN:VCALENDAR
VERSION:2.0
PRODID:Spatie calendar-links
BEGIN:VEVENT
UID:6e4bec80b747a79e21788b15c4598fe5
SUMMARY:World Wide Rally Sept 18th Montreal to Quebec City Convoy
DTSTAMP;TZID=America/Vancouver:20210918T000000
DTSTART;TZID=America/Vancouver:20210918T000000
DTEND;TZID=America/Vancouver:20210918T000000
LOCATION:Montreal\, Quebec\, Canada
END:VEVENT
END:VCALENDAR