BEGIN:VCALENDAR
VERSION:2.0
PRODID:Spatie calendar-links
BEGIN:VEVENT
UID:6a741b52d46fdcb13e2c09fb6963844b
SUMMARY:World Wide Walkout - My Body My Choice
DTSTAMP;TZID=America/Los_Angeles:20210901T130000
DTSTART;TZID=America/Los_Angeles:20210901T130000
DTEND;TZID=America/Los_Angeles:20210901T160000
LOCATION:311 Columbia St\, Kamloops\, British Columbia\, Canada
END:VEVENT
END:VCALENDAR