BEGIN:VCALENDAR
VERSION:2.0
PRODID:Spatie calendar-links
BEGIN:VEVENT
UID:003216775e02b98fd3256d985ede665c
SUMMARY:World Wide Rally Sept 18th Vancouver
DTSTAMP;TZID=America/Vancouver:20210918T120000
DTSTART;TZID=America/Vancouver:20210918T120000
DTEND;TZID=America/Vancouver:20210918T170000
LOCATION:Vancouver\, BC\, Canada
END:VEVENT
END:VCALENDAR