BEGIN:VCALENDAR
VERSION:2.0
PRODID:Spatie calendar-links
BEGIN:VEVENT
UID:233f6c02e8f0f1a59ed16dfac4473268
SUMMARY:World Wide Rally Sept 18th Kelowna
DTSTAMP;TZID=America/Vancouver:20210918T120000
DTSTART;TZID=America/Vancouver:20210918T120000
DTEND;TZID=America/Vancouver:20210918T160000
LOCATION:Kelowna\, BC\, Canada
END:VEVENT
END:VCALENDAR