BEGIN:VCALENDAR
VERSION:2.0
PRODID:Spatie calendar-links
BEGIN:VEVENT
UID:5d9316ba4ea7e6e4581ad5a8278a61dd
SUMMARY:World Wide Rally Sept 18th Charlottetown
DTSTAMP;TZID=America/St_Johns:20210918T120000
DTSTART;TZID=America/St_Johns:20210918T120000
DTEND;TZID=America/St_Johns:20210918T150000
LOCATION:Charlottetown\, Newfoundland and Labrador\, Canada
END:VEVENT
END:VCALENDAR