BEGIN:VCALENDAR
VERSION:2.0
PRODID:Spatie calendar-links
BEGIN:VEVENT
UID:d7eec46c5ca1f8a69e50a5d79e943a66
SUMMARY:Vancouver Freedom Worship Rally
DTSTAMP;TZID=America/Los_Angeles:20210829T110000
DTSTART;TZID=America/Los_Angeles:20210829T110000
DTEND;TZID=America/Los_Angeles:20210829T130000
LOCATION:1100 CHESTNUT STREET\, Vancouver\, British Columbia\, Canada
END:VEVENT
END:VCALENDAR