BEGIN:VCALENDAR
VERSION:2.0
PRODID:Spatie calendar-links
BEGIN:VEVENT
UID:1c612365c0c272ca43e5f38fd335b75a
SUMMARY:Stand Against Vaccine Tyranny Car Rally
DTSTAMP;TZID=America/Los_Angeles:20210828T100000
DTSTART;TZID=America/Los_Angeles:20210828T100000
DTEND;TZID=America/Los_Angeles:20210828T140000
LOCATION:201 Central st\, Vancouver\, British Columbia\, Canada
END:VEVENT
END:VCALENDAR