BEGIN:VCALENDAR
VERSION:2.0
PRODID:Spatie calendar-links
BEGIN:VEVENT
UID:a47f8b3402cdf500e0faf88487e061e7
SUMMARY:Sounding The Alarm
DTSTAMP;TZID=America/Los_Angeles:20210907T090000
DTSTART;TZID=America/Los_Angeles:20210907T090000
DTEND;TZID=America/Los_Angeles:20210907T110000
LOCATION:14439 104 Ave\, Surrey\, British Columbia\, Canada
END:VEVENT
END:VCALENDAR