BEGIN:VCALENDAR
VERSION:2.0
PRODID:Spatie calendar-links
BEGIN:VEVENT
UID:e994b4348856ef770632fd71926e3efa
SUMMARY:Mad Max Tour Sept 4th Vancouver Moved to Jack Poole Plaza
DTSTAMP;TZID=America/Vancouver:20210904T160000
DTSTART;TZID=America/Vancouver:20210904T160000
DTEND;TZID=America/Vancouver:20210904T190000
LOCATION:Vancouver\, BC\, Canada
END:VEVENT
END:VCALENDAR