BEGIN:VCALENDAR
VERSION:2.0
PRODID:Spatie calendar-links
BEGIN:VEVENT
UID:2a76583771ba9a7b8f1f3ebc332eca2c
SUMMARY:Mad Max Tour Sept 3rd to 5th BC
DTSTAMP;TZID=America/Vancouver:20210903T113000
DTSTART;TZID=America/Vancouver:20210903T113000
DTEND;TZID=America/Vancouver:20210905T143100
LOCATION:Canada
END:VEVENT
END:VCALENDAR