BEGIN:VCALENDAR
VERSION:2.0
PRODID:Spatie calendar-links
BEGIN:VEVENT
UID:3c599ecce537277dcd19028a4965ec66
SUMMARY:PCR FRAUD CAR CONVOY #2 in Vancouver -FEB 27 at 12:00 pm meet at Science World parking - North lot 
DTSTAMP;TZID=America/Vancouver:20210227T120000
DTSTART;TZID=America/Vancouver:20210227T120000
DTEND;TZID=America/Vancouver:20210227T160000
LOCATION:1455 Quebec Street\, Vancouver\, BC\, Canada
END:VEVENT
END:VCALENDAR