BEGIN:VCALENDAR
VERSION:2.0
PRODID:Spatie calendar-links
BEGIN:VEVENT
UID:bd8e9cb35d5d8af5a74a44b9769399e9
SUMMARY:World Wide Rally Sept. 18th Winnipeg
DTSTAMP;TZID=America/Winnipeg:20210918T140000
DTSTART;TZID=America/Winnipeg:20210918T140000
DTEND;TZID=America/Winnipeg:20210918T170000
LOCATION:Winnipeg\, Manitoba\, Canada
END:VEVENT
END:VCALENDAR