BEGIN:VCALENDAR
VERSION:2.0
PRODID:Spatie calendar-links
BEGIN:VEVENT
UID:7f056a2b3d7c5918fee46392e0cb6fc2
SUMMARY:World Wide Rally Sept 18th Edmonton
DTSTAMP;TZID=America/Vancouver:20210918T120000
DTSTART;TZID=America/Vancouver:20210918T120000
DTEND;TZID=America/Vancouver:20210918T150000
LOCATION:Edmonton\, BC\, Canada
END:VEVENT
END:VCALENDAR