BEGIN:VCALENDAR
VERSION:2.0
PRODID:Spatie calendar-links
BEGIN:VEVENT
UID:4ce0e322f733a716859b3d9566ae5b8e
SUMMARY:World Wide Rally Sept 18th Halifax
DTSTAMP;TZID=America/Halifax:20210918T130000
DTSTART;TZID=America/Halifax:20210918T130000
DTEND;TZID=America/Halifax:20210918T150000
LOCATION:Halifax\, Nova Scotia\, Canada
END:VEVENT
END:VCALENDAR