BEGIN:VCALENDAR
VERSION:2.0
PRODID:Spatie calendar-links
BEGIN:VEVENT
UID:22930664ab2a33b08054bd1533b56ac6
SUMMARY:VAXX Awareness Protest
DTSTAMP;TZID=America/Los_Angeles:20210911T100000
DTSTART;TZID=America/Los_Angeles:20210911T100000
DTEND;TZID=America/Los_Angeles:20210911T150000
LOCATION:750 Hornby Street\, Vancouver\, British Columbia\, Canada
END:VEVENT
END:VCALENDAR