BEGIN:VCALENDAR
VERSION:2.0
PRODID:Spatie calendar-links
BEGIN:VEVENT
UID:7ba499f17dfacecc3a5d43ea2b653785
SUMMARY:Uniting Businesses for Freedom of Choice
DTSTAMP;TZID=America/Los_Angeles:20210908T130000
DTSTART;TZID=America/Los_Angeles:20210908T130000
DTEND;TZID=America/Los_Angeles:20210908T150000
LOCATION:2808 Cambie St\, Vancouver\, British Columbia\, Canada
END:VEVENT
END:VCALENDAR