BEGIN:VCALENDAR
VERSION:2.0
PRODID:Spatie calendar-links
BEGIN:VEVENT
UID:0adce3eac04276853178e2da718c8dda
SUMMARY:Summer Farewell Wellness Gathering
DTSTAMP;TZID=America/Los_Angeles:20211001T180000
DTSTART;TZID=America/Los_Angeles:20211001T180000
DTEND;TZID=America/Los_Angeles:20211001T223000
LOCATION:3650 Douglas rd.\, Burnaby\, BC\, Canada
END:VEVENT
END:VCALENDAR