BEGIN:VCALENDAR
VERSION:2.0
PRODID:Spatie calendar-links
BEGIN:VEVENT
UID:d1b8864daa15638ba20c3ad78ba09861
SUMMARY:Standing Together Again! For Informed Consent & Medical Freedoms
DTSTAMP;TZID=America/Los_Angeles:20210913T140000
DTSTART;TZID=America/Los_Angeles:20210913T140000
DTEND;TZID=America/Los_Angeles:20210913T170000
LOCATION:453 W 12th Ave\, Vancouver\, British Columbia\, Canada
END:VEVENT
END:VCALENDAR