BEGIN:VCALENDAR
VERSION:2.0
PRODID:Spatie calendar-links
BEGIN:VEVENT
UID:1794aee87822660d9b629ee978b85680
SUMMARY:World Wide Rally Sept 18th Cranbrook
DTSTAMP;TZID=America/Vancouver:20210918T130000
DTSTART;TZID=America/Vancouver:20210918T130000
DTEND;TZID=America/Vancouver:20210918T160000
LOCATION:800 Baker St.\, Cranbrook\, BC\, Canada
END:VEVENT
END:VCALENDAR