BEGIN:VCALENDAR
VERSION:2.0
PRODID:Spatie calendar-links
BEGIN:VEVENT
UID:003197a986d43b6f5481bb5459642aec
SUMMARY:RALLY at Supreme Court
DTSTAMP;TZID=America/Los_Angeles:20210913T100000
DTSTART;TZID=America/Los_Angeles:20210913T100000
DTEND;TZID=America/Los_Angeles:20210913T120000
LOCATION:800 Smithe St\, Vancouver\, British Columbia\, Canada
END:VEVENT
END:VCALENDAR