BEGIN:VCALENDAR
VERSION:2.0
PRODID:Spatie calendar-links
BEGIN:VEVENT
UID:a50b2be33f503ba2567806b1b825baa6
SUMMARY:Party For The People Sept 20th Armstrong BC
DTSTAMP;TZID=America/Vancouver:20210920T180000
DTSTART;TZID=America/Vancouver:20210920T180000
DTEND;TZID=America/Vancouver:20210920T220000
LOCATION:1584  Reservoir Rd.\, Armstrong\, B.C.\, Canada
END:VEVENT
END:VCALENDAR