BEGIN:VCALENDAR
VERSION:2.0
PRODID:Spatie calendar-links
BEGIN:VEVENT
UID:5f8c61e6ea4eeb02cc1b02ece706b730
SUMMARY:Start Of Lawsuit At The Law Courts Downtown Vancouver March 1st -PROTEST OUTSIDE OF COURTHOUSE and YouTubers Live Streaming As Well
DTSTAMP;TZID=America/Vancouver:20210301T093000
DTSTART;TZID=America/Vancouver:20210301T093000
DTEND;TZID=America/Vancouver:20210301T113000
LOCATION:800 Smithe Street\, Vancouver\, BC\, Canada
END:VEVENT
END:VCALENDAR