BEGIN:VCALENDAR
VERSION:2.0
PRODID:Spatie calendar-links
BEGIN:VEVENT
UID:294a79c9153dfe00630183ced7221856
SUMMARY:Freedom Worship Rally
DTSTAMP;TZID=America/Los_Angeles:20210919T110000
DTSTART;TZID=America/Los_Angeles:20210919T110000
DTEND;TZID=America/Los_Angeles:20210919T130000
LOCATION:1695  Whyte Ave\, Vancouver\, British Columbia\, Canada
END:VEVENT
END:VCALENDAR