BEGIN:VCALENDAR
VERSION:2.0
PRODID:Spatie calendar-links
BEGIN:VEVENT
UID:250195fc407b46691cd910616f2616ba
SUMMARY:World Wide Rally Sept 18th Canada Official Locations
DTSTAMP;TZID=America/Vancouver:20210918T120000
DTSTART;TZID=America/Vancouver:20210918T120000
DTEND;TZID=America/Vancouver:20210918T180000
LOCATION:Canada
END:VEVENT
END:VCALENDAR