BEGIN:VCALENDAR
VERSION:2.0
PRODID:Spatie calendar-links
BEGIN:VEVENT
UID:3b11c8606a655d7872e1f7550744f6f9
SUMMARY:No New Normal
DTSTAMP;TZID=America/Los_Angeles:20210919T130000
DTSTART;TZID=America/Los_Angeles:20210919T130000
DTEND;TZID=America/Los_Angeles:20210919T160000
LOCATION:750 Hornby St\, Vancouver\, British Columbia\, Canada
END:VEVENT
END:VCALENDAR