BEGIN:VCALENDAR
VERSION:2.0
PRODID:Spatie calendar-links
BEGIN:VEVENT
UID:100a7e5cb16a818c2c580051d92533d5
SUMMARY:We are all Essential!
DTSTAMP;TZID=America/Los_Angeles:20210922T130000
DTSTART;TZID=America/Los_Angeles:20210922T130000
DTEND;TZID=America/Los_Angeles:20210922T150000
LOCATION:496 West Broadway Avenue\, Vancouver\, British Columbia\, Canada
END:VEVENT
END:VCALENDAR