BEGIN:VCALENDAR
VERSION:2.0
PRODID:Spatie calendar-links
BEGIN:VEVENT
UID:2b5d633f5ed49fefd22afc5514f3235e
SUMMARY:First Annual Chemtrails Protest 10K Run/Walk
DTSTAMP;TZID=America/Los_Angeles:20211002T080000
DTSTART;TZID=America/Los_Angeles:20211002T080000
DTEND;TZID=America/Los_Angeles:20211002T110000
LOCATION:1696 W 1st Ave\, Vancouver\, British Columbia\, Canada
END:VEVENT
END:VCALENDAR