BEGIN:VCALENDAR
VERSION:2.0
PRODID:Spatie calendar-links
BEGIN:VEVENT
UID:5043ca8a6323357d58a07e34d6dcbc87
SUMMARY:Celebration of Freedom Event
DTSTAMP;TZID=America/Los_Angeles:20211002T130000
DTSTART;TZID=America/Los_Angeles:20211002T130000
DTEND;TZID=America/Los_Angeles:20211002T235900
LOCATION:Vancouver\, British Columbia\, Canada
END:VEVENT
END:VCALENDAR