BEGIN:VCALENDAR
VERSION:2.0
PRODID:Spatie calendar-links
BEGIN:VEVENT
UID:080a09f1bb048bd73272ea8fd7e2535b
SUMMARY:The Media Is The Virus
DTSTAMP;TZID=America/Los_Angeles:20211022T130000
DTSTART;TZID=America/Los_Angeles:20211022T130000
DTEND;TZID=America/Los_Angeles:20211022T150000
LOCATION:700 Hamilton St\, Vancouver\, British Columbia\, Canada
END:VEVENT
END:VCALENDAR