BEGIN:VCALENDAR
VERSION:2.0
PRODID:Spatie calendar-links
BEGIN:VEVENT
UID:29586f2ef91fb25766539402ef1b9a16
SUMMARY:THE RIGHT TO CHOOSE
DTSTAMP;TZID=America/Los_Angeles:20210925T110000
DTSTART;TZID=America/Los_Angeles:20210925T110000
DTEND;TZID=America/Los_Angeles:20210925T150000
LOCATION:45943 Victoria Ave\, Chilliwack\, British Columbia\, Canada
END:VEVENT
END:VCALENDAR