BEGIN:VCALENDAR
VERSION:2.0
PRODID:Spatie calendar-links
BEGIN:VEVENT
UID:db6633d321514aa418fb6239f94b165f
SUMMARY:We are all Essential
DTSTAMP;TZID=America/Los_Angeles:20210929T130000
DTSTART;TZID=America/Los_Angeles:20210929T130000
DTEND;TZID=America/Los_Angeles:20210929T150000
LOCATION:453 West 12th Avenue\, Vancouver\, British Columbia\, Canada
END:VEVENT
END:VCALENDAR