BEGIN:VCALENDAR
VERSION:2.0
PRODID:Spatie calendar-links
BEGIN:VEVENT
UID:6f621fac7cf7928edc46c8fb6def267b
SUMMARY:Constitutional Challenge against Dr. Bonnie Henry
DTSTAMP;TZID=America/Los_Angeles:20211001T090000
DTSTART;TZID=America/Los_Angeles:20211001T090000
DTEND;TZID=America/Los_Angeles:20211001T110000
LOCATION:800 Smithe Street\, Vancouver\, British Columbia\, Canada
END:VEVENT
END:VCALENDAR