BEGIN:VCALENDAR
VERSION:2.0
PRODID:Spatie calendar-links
BEGIN:VEVENT
UID:6f609f7767282f8d7f7d41f04937a45a
SUMMARY:CALL TO ACTION RALLY
DTSTAMP;TZID=America/Los_Angeles:20211009T130000
DTSTART;TZID=America/Los_Angeles:20211009T130000
DTEND;TZID=America/Los_Angeles:20211009T160000
LOCATION:32960 Mill Lake Road\, Abbotsford\, British Columbia\, Canada
END:VEVENT
END:VCALENDAR