BEGIN:VCALENDAR
VERSION:2.0
PRODID:Spatie calendar-links
BEGIN:VEVENT
UID:ca230775a7afde0edc29cc193614c2c3
SUMMARY:Break Every Chain Freedom Rally
DTSTAMP;TZID=America/Los_Angeles:20211003T130000
DTSTART;TZID=America/Los_Angeles:20211003T130000
DTEND;TZID=America/Los_Angeles:20211003T160000
LOCATION:750 Hornby St\, Vancouver\, British Columbia\, Canada
END:VEVENT
END:VCALENDAR