BEGIN:VCALENDAR
VERSION:2.0
PRODID:Spatie calendar-links
BEGIN:VEVENT
UID:5a37ec61340457fa1bfc24030377c9c3
SUMMARY:Canada Wide Protest Day
DTSTAMP;TZID=America/Los_Angeles:20211006T130000
DTSTART;TZID=America/Los_Angeles:20211006T130000
DTEND;TZID=America/Los_Angeles:20211006T150000
LOCATION:453 W 12th Ave\, Vancouver\, British Columbia\, Canada
END:VEVENT
END:VCALENDAR