BEGIN:VCALENDAR
VERSION:2.0
PRODID:Spatie calendar-links
BEGIN:VEVENT
UID:a0e2d8cfdf68c75e753a9f39439e8246
SUMMARY:Honouring the 75th Anniversary of the Nuremberg Trials
DTSTAMP;TZID=America/Los_Angeles:20211001T160000
DTSTART;TZID=America/Los_Angeles:20211001T160000
DTEND;TZID=America/Los_Angeles:20211001T203000
LOCATION:750 Hornby Street\, Vancouver\, British Columbia\, Canada
END:VEVENT
END:VCALENDAR