BEGIN:VCALENDAR
VERSION:2.0
PRODID:Spatie calendar-links
BEGIN:VEVENT
UID:00ad97e1f0e78e155cc1340a84bc42dd
SUMMARY:Fellowship of the Awake
DTSTAMP;TZID=America/Los_Angeles:20211005T180000
DTSTART;TZID=America/Los_Angeles:20211005T180000
DTEND;TZID=America/Los_Angeles:20211230T160000
LOCATION:3650 Douglas Rd.\, Burnaby\, BC\, Canada
END:VEVENT
END:VCALENDAR