BEGIN:VCALENDAR
VERSION:2.0
PRODID:Spatie calendar-links
BEGIN:VEVENT
UID:6f742b50bf58af2a7a5e9488786f8d1b
SUMMARY:Save Our Children
DTSTAMP;TZID=America/Los_Angeles:20211012T130000
DTSTART;TZID=America/Los_Angeles:20211012T130000
DTEND;TZID=America/Los_Angeles:20211012T150000
LOCATION:14033 92 Avenue\, Surrey\, British Columbia\, Canada
END:VEVENT
END:VCALENDAR