BEGIN:VCALENDAR
VERSION:2.0
PRODID:Spatie calendar-links
BEGIN:VEVENT
UID:52b4cbce02a9defd43beccaa9eb915ab
SUMMARY:Freedom Rally
DTSTAMP;TZID=America/Los_Angeles:20211026T180000
DTSTART;TZID=America/Los_Angeles:20211026T180000
DTEND;TZID=America/Los_Angeles:20211026T210000
LOCATION:117 10th Ave S\, Cranbrook\, British Columbia\, Canada
END:VEVENT
END:VCALENDAR