BEGIN:VCALENDAR
VERSION:2.0
PRODID:Spatie calendar-links
BEGIN:VEVENT
UID:1133a2d37aa02b3d0ef1785df103e260
SUMMARY:Stand Down Order - Defund City Hall
DTSTAMP;TZID=America/Los_Angeles:20211015T120000
DTSTART;TZID=America/Los_Angeles:20211015T120000
DTEND;TZID=America/Los_Angeles:20211015T150000
LOCATION:13450 104 Avenue\, Surrey\, British Columbia\, Canada
END:VEVENT
END:VCALENDAR