BEGIN:VCALENDAR
VERSION:2.0
PRODID:Spatie calendar-links
BEGIN:VEVENT
UID:191cc42a4321d80d09039e1892445b32
SUMMARY:Celebration of Life and Freedom - Hugs Over Masks - London\, Ontario
DTSTAMP;TZID=America/Toronto:20210307T120000
DTSTART;TZID=America/Toronto:20210307T120000
DTEND;TZID=America/Toronto:20210307T160000
LOCATION:London\, ON\, Canada
END:VEVENT
END:VCALENDAR